BEGIN:VCALENDAR
VERSION:2.0
PRODID:-//Fernvale Community Church - ECPv6.15.20//NONSGML v1.0//EN
CALSCALE:GREGORIAN
METHOD:PUBLISH
X-ORIGINAL-URL:https://fernvale.church
X-WR-CALDESC:Events for Fernvale Community Church
REFRESH-INTERVAL;VALUE=DURATION:PT1H
X-Robots-Tag:noindex
X-PUBLISHED-TTL:PT1H
BEGIN:VTIMEZONE
TZID:UTC
BEGIN:STANDARD
TZOFFSETFROM:+0000
TZOFFSETTO:+0000
TZNAME:UTC
DTSTART:20210101T000000
END:STANDARD
END:VTIMEZONE
BEGIN:VTIMEZONE
TZID:Australia/Melbourne
BEGIN:STANDARD
TZOFFSETFROM:+1100
TZOFFSETTO:+1000
TZNAME:AEST
DTSTART:20250405T160000
END:STANDARD
BEGIN:DAYLIGHT
TZOFFSETFROM:+1000
TZOFFSETTO:+1100
TZNAME:AEDT
DTSTART:20251004T160000
END:DAYLIGHT
BEGIN:STANDARD
TZOFFSETFROM:+1100
TZOFFSETTO:+1000
TZNAME:AEST
DTSTART:20260404T160000
END:STANDARD
BEGIN:DAYLIGHT
TZOFFSETFROM:+1000
TZOFFSETTO:+1100
TZNAME:AEDT
DTSTART:20261003T160000
END:DAYLIGHT
BEGIN:STANDARD
TZOFFSETFROM:+1100
TZOFFSETTO:+1000
TZNAME:AEST
DTSTART:20270403T160000
END:STANDARD
BEGIN:DAYLIGHT
TZOFFSETFROM:+1000
TZOFFSETTO:+1100
TZNAME:AEDT
DTSTART:20271002T160000
END:DAYLIGHT
END:VTIMEZONE
BEGIN:VEVENT
DTSTART;TZID=UTC:20220312T080000
DTEND;TZID=UTC:20220312T170000
DTSTAMP:20260422T212719
CREATED:20210930T114724Z
LAST-MODIFIED:20260406T142005Z
UID:10000004-1647072000-1647104400@fernvale.church
SUMMARY:Community Clean and Connect
DESCRIPTION:Turpis massa sed elementum tempus egestas sed sed risus pretium. Vitae et leo duis ut diam quam. Et netus et malesuada fames ac turpis egestas. Ipsum nunc aliquet bibendum enim. \n\n\n\nVitae et leo duis ut diam quam. Et netus et malesuada fames ac turpis egestas. Ipsum nunc aliquet bibendum enim. Turpis massa sed elementum tempus egestas sed sed risus pretium. Vitae et leo duis ut diam quam. Et netus et malesuada fames ac turpis egestas. Ipsum nunc aliquet bibendum enim. \n\n\n\nAdditional Information\n\n\n\nTristique senectus et netus et malesuada fames ac. Libero justo laoreet sit amet cursus sit amet dictum sit. Semper risus in hendrerit gravida. Urna duis convallis convallis tellus id interdum. Blandit cursus risus at ultrices mi tempus imperdiet nulla malesuada. \n\n\n\nTurpis massa sed elementum tempus egestas sed sed risus pretium. Vitae et leo duis ut diam quam. Et netus et malesuada fames ac turpis egestas. Ipsum nunc aliquet bibendum enim. Eget felis eget nunc lobortis mattis aliquam faucibus purus. Dictum sit amet justo donec. Mollis nunc sed id semper risus. Lacus vestibulum sed arcu non odio euismod. Amet justo donec enim diam vulputate ut. Feugiat in ante metus dictum. Feugiat nisl pretium fusce id velit ut. Enim blandit volutpat maecenas volutpat blandit aliquam etiam.
URL:https://fernvale.church/event/community-clean-and-connect/
LOCATION:Green Street Park\, Payson Ave. &\, Seaman Ave\, New York\, NY\, 10034\, United States
ATTACH;FMTTYPE=image/jpeg:https://fernvale.church/wp-content/uploads/2021/04/pexels-yan-krukov-4458033.jpg
END:VEVENT
BEGIN:VEVENT
DTSTART;TZID=Australia/Melbourne:20260411T080000
DTEND;TZID=Australia/Melbourne:20260411T170000
DTSTAMP:20260422T212719
CREATED:20260410T063804Z
LAST-MODIFIED:20260410T063806Z
UID:10000006-1775894400-1775926800@fernvale.church
SUMMARY:
DESCRIPTION:11 April event
URL:https://fernvale.church/event/1687/
ATTACH;FMTTYPE=image/png:https://fernvale.church/wp-content/uploads/2026/04/cropped-cropped-fernvale-site-logo-transparent.png
END:VEVENT
BEGIN:VEVENT
DTSTART;TZID=UTC:20260601T103000
DTEND;TZID=UTC:20260601T110000
DTSTAMP:20260422T212719
CREATED:20260406T170308Z
LAST-MODIFIED:20260406T201012Z
UID:10000005-1780309800-1780311600@fernvale.church
SUMMARY:Ladies Brunch
DESCRIPTION:Ladies Brunch \n\n\n\nAll ladies are welcome to join us for brunch where we encourage and uplift one another as we do life together. Brunches are currently held at Stellarossa Cafe. Parking is  usually easy and the cafe has generously offered us a special on a delicious choice of coffee and meal.
URL:https://fernvale.church/event/ladies-brunch/
LOCATION:1514 Brisbane Valley Highway\, Fernvale QLD 4306\, Australia\, 1514 Brisbane Valley Highway\, Fernvale\, QLD\, 4306\, Australia
ATTACH;FMTTYPE=image/jpeg:https://fernvale.church/wp-content/uploads/2021/09/pexels-cottonbro-3992391.jpg
END:VEVENT
END:VCALENDAR